BEGIN:VCALENDAR
VERSION:2.0
PRODID:-//wp-events-plugin.com//7.2.3.1//EN
TZID:America/Chicago
X-WR-TIMEZONE:America/Chicago
BEGIN:VEVENT
UID:177@riponlibrary.org
DTSTART;TZID=America/Chicago:20220126T100000
DTEND;TZID=America/Chicago:20220126T104500
DTSTAMP:20220106T222723Z
URL:https://riponlibrary.org/events/winter-storytime-sillies-2022-01-26/
SUMMARY:Winter Storytime Sillies
DESCRIPTION:Storytime focuses on active learning and fun! On Wednesdays\, J
 anuary 19 and 26 at 10 a.m.\, early literacy and STEM concepts come to lif
 e through stories\, music\, movement\, and enrichment activities. \n\n	Jan
 uary 19\, Slumber-time Sillies celebrates the cozy joy of winter's extende
 d bedtime routines!\n	January 26\, Not-a-Box celebrates the creativity tha
 t comes from being stuck indoors through imaginative play with boxes. \n\n
 Storytimes are designed for 2–4-year-olds\, accompanied by their caregiv
 er\, but enjoyable for the whole family. 
END:VEVENT
BEGIN:VTIMEZONE
TZID:America/Chicago
X-LIC-LOCATION:America/Chicago
BEGIN:STANDARD
DTSTART:20211107T010000
TZOFFSETFROM:-0500
TZOFFSETTO:-0600
TZNAME:CST
END:STANDARD
END:VTIMEZONE
END:VCALENDAR