BEGIN:VCALENDAR
VERSION:2.0
PRODID:-//wp-events-plugin.com//7.2.3.1//EN
TZID:America/Chicago
X-WR-TIMEZONE:America/Chicago
BEGIN:VEVENT
UID:1038@riponlibrary.org
DTSTART;TZID=America/Chicago:20250701T160000
DTEND;TZID=America/Chicago:20250701T190000
DTSTAMP:20250528T192334Z
URL:https://riponlibrary.org/events/teens-chocolate-making-ages-11-17/
SUMMARY:TEENS | CHOCOLATE MAKING | AGES 11-17
DESCRIPTION:CHOCOLATE MAKING | TUES | JUL 1 | 4:00-6:00 PM | TEENS AGES 11-
 17\nWelcome to the Teen Chocolate Mold Extravaganza! This exciting event p
 romises a delightful mix of creativity\, fun\, and chocolate indulgence. J
 oin us for an engaging session where teens can unleash their artistic flai
 r\, enjoy delicious snacks\, and have fun with friends!\nRegistration requ
 ired to ensure an adequate amount of supplies. Please call the library at 
 920-748-6160 or stop by to claim your spot!
END:VEVENT
BEGIN:VTIMEZONE
TZID:America/Chicago
X-LIC-LOCATION:America/Chicago
BEGIN:DAYLIGHT
DTSTART:20250309T030000
TZOFFSETFROM:-0600
TZOFFSETTO:-0500
TZNAME:CDT
END:DAYLIGHT
END:VTIMEZONE
END:VCALENDAR