BEGIN:VCALENDAR
VERSION:2.0
PRODID:-//wp-events-plugin.com//7.2.3.1//EN
TZID:America/Chicago
X-WR-TIMEZONE:America/Chicago
BEGIN:VEVENT
UID:590@riponlibrary.org
DTSTART;TZID=America/Chicago:20230923T110000
DTEND;TZID=America/Chicago:20230923T130000
DTSTAMP:20230922T222616Z
URL:https://riponlibrary.org/events/teen-henna-tattoos-sat-sept-23-10-12-n
 oon/
SUMMARY:TEEN HENNA TATTOOS 11 AM - 1 PM
DESCRIPTION:Henna Tattoos with Henna by Kelly Rad. Come on in and get a tat
 too! There will be several patterns to choose from. Get a tattoo and show 
 it off to your friends. This natural dye will last about 2 weeks. This is 
 a drop-in program.\n   \n&nbsp\;
END:VEVENT
BEGIN:VTIMEZONE
TZID:America/Chicago
X-LIC-LOCATION:America/Chicago
BEGIN:DAYLIGHT
DTSTART:20230312T030000
TZOFFSETFROM:-0600
TZOFFSETTO:-0500
TZNAME:CDT
END:DAYLIGHT
END:VTIMEZONE
END:VCALENDAR