BEGIN:VCALENDAR
VERSION:2.0
PRODID:-//wp-events-plugin.com//7.2.3.1//EN
TZID:America/Chicago
X-WR-TIMEZONE:America/Chicago
BEGIN:VEVENT
UID:965@riponlibrary.org
DTSTART;TZID=America/Chicago:20250426T120000
DTEND;TZID=America/Chicago:20250426T160000
DTSTAMP:20250227T214405Z
URL:https://riponlibrary.org/events/tabletop-challenge-iv/
SUMMARY:TABLETOP CHALLENGE IV
DESCRIPTION:Join us at the Ripon Public Library for Tabletop Challenge IV! 
 On Saturday\, April 26 starting @ noon\, players will test their skills ov
 er three rounds of friendly competition in a variety of modern board games
 . Points will be awarded each round based on each player's finishing posit
 ion\, and the player with the highest overall total will be crowned champi
 on! Prizes - including gift cards and games - will be awarded to our top f
 inishers\, and everyone will get a shot at our door prizes. Thank you to A
 dventure Games of Oshkosh\, Boardlandia of Appleton\, and the Friends of t
 he Library for helping make this event possible!\nRegister Online\nCheck o
 ut our Tabletop Tutor program or visit our website if you're looking to le
 arn the rules for any of our tournament games! You can make an appointment
  with library staff to walk you through the rules for any of our competiti
 on games (and\, just about any other game from our collection).
END:VEVENT
BEGIN:VTIMEZONE
TZID:America/Chicago
X-LIC-LOCATION:America/Chicago
BEGIN:DAYLIGHT
DTSTART:20250309T030000
TZOFFSETFROM:-0600
TZOFFSETTO:-0500
TZNAME:CDT
END:DAYLIGHT
END:VTIMEZONE
END:VCALENDAR