BEGIN:VCALENDAR
VERSION:2.0
PRODID:-//wp-events-plugin.com//7.2.3.1//EN
TZID:America/Chicago
X-WR-TIMEZONE:America/Chicago
BEGIN:VEVENT
UID:296@riponlibrary.org
DTSTART;TZID=America/Chicago:20220514T100000
DTEND;TZID=America/Chicago:20220514T120000
DTSTAMP:20220510T203323Z
URL:https://riponlibrary.org/events/super-saturday-movie-turning-red-pg-1h
 -40m/
SUMMARY:Super Saturday Movie! |Turning Red (PG) 1h 40m
DESCRIPTION:Join us in the Silver Creek Room to watch this family-friendly 
 animated movie! Free admission and snack provided!\nTurning Red (PG) 1hr 4
 0min\n 
END:VEVENT
BEGIN:VTIMEZONE
TZID:America/Chicago
X-LIC-LOCATION:America/Chicago
BEGIN:DAYLIGHT
DTSTART:20220313T030000
TZOFFSETFROM:-0600
TZOFFSETTO:-0500
TZNAME:CDT
END:DAYLIGHT
END:VTIMEZONE
END:VCALENDAR