BEGIN:VCALENDAR
VERSION:2.0
PRODID:-//wp-events-plugin.com//7.2.3.1//EN
TZID:America/Chicago
X-WR-TIMEZONE:America/Chicago
BEGIN:VEVENT
UID:283@riponlibrary.org
DTSTART;TZID=America/Chicago:20220721T140000
DTEND;TZID=America/Chicago:20220721T140000
DTSTAMP:20220719T175741Z
URL:https://riponlibrary.org/events/singing-bowls-by-the-stream-2/
SUMMARY:Singing Bowls by the Stream|Adults
DESCRIPTION:(Adults only)\nHand out and relax behind the library by Silver 
 Creek while learning how to play singing bowls!\nTeens-only version was Ju
 ne 23
END:VEVENT
BEGIN:VTIMEZONE
TZID:America/Chicago
X-LIC-LOCATION:America/Chicago
BEGIN:DAYLIGHT
DTSTART:20220313T030000
TZOFFSETFROM:-0600
TZOFFSETTO:-0500
TZNAME:CDT
END:DAYLIGHT
END:VTIMEZONE
END:VCALENDAR