BEGIN:VCALENDAR
VERSION:2.0
PRODID:-//wp-events-plugin.com//7.2.3.1//EN
TZID:America/Chicago
X-WR-TIMEZONE:America/Chicago
BEGIN:VEVENT
UID:69@riponlibrary.org
DTSTART;TZID=America/Chicago;VALUE=DATE:20210707
DTEND;TZID=America/Chicago;VALUE=DATE:20210708
DTSTAMP:20210616T145001Z
URL:https://riponlibrary.org/events/scrabble-drink-coasters-take-and-make/
SUMMARY:Scrabble™ Drink Coasters | Take-and-Make
DESCRIPTION:[TEENS &amp\; ADULTS] SUPPLIES AVAILABLE STARTING THE DAY OF TH
 E EVENT - WHILE SUPPLIES LAST\nLetters make more than words - they also ma
 ke great drink coasters! Stop by the library to get this fun and easy DIY 
 kit to create at home (while supplies last).\nPhoto credit: derrypubliclib
 rary\n \n\n \n
END:VEVENT
BEGIN:VTIMEZONE
TZID:America/Chicago
X-LIC-LOCATION:America/Chicago
BEGIN:DAYLIGHT
DTSTART:20210314T030000
TZOFFSETFROM:-0600
TZOFFSETTO:-0500
TZNAME:CDT
END:DAYLIGHT
END:VTIMEZONE
END:VCALENDAR