BEGIN:VCALENDAR
VERSION:2.0
PRODID:-//wp-events-plugin.com//7.2.3.1//EN
TZID:America/Chicago
X-WR-TIMEZONE:America/Chicago
BEGIN:VEVENT
UID:729@riponlibrary.org
DTSTART;TZID=America/Chicago:20240318T100000
DTEND;TZID=America/Chicago:20240318T104500
DTSTAMP:20240313T192244Z
URL:https://riponlibrary.org/events/pop-up-movie-wish/
SUMMARY:POP-UP MOVIE | Wish | PG 1:35
DESCRIPTION:Join us for a special POP-UP showing of the movie Wish at 10:00
  AM.  All are welcome!  Complimentary popcorn will be available.\nA youn
 g woman named Asha possesses wild wishes for happiness. After making a wis
 h on a starry night\, Asha is surprised when Star\, a ball of cosmic energ
 y\, comes down to accompany her. Asha and Star must work together to defea
 t the ruthless ruler\, King Magnifico\, who threatens the safety of her lo
 cal community. With Asha's unstoppable courage and Star's magical powers\,
  nothing is impossible.--Swank\n&nbsp\;\n
END:VEVENT
BEGIN:VTIMEZONE
TZID:America/Chicago
X-LIC-LOCATION:America/Chicago
BEGIN:DAYLIGHT
DTSTART:20240310T030000
TZOFFSETFROM:-0600
TZOFFSETTO:-0500
TZNAME:CDT
END:DAYLIGHT
END:VTIMEZONE
END:VCALENDAR