BEGIN:VCALENDAR
VERSION:2.0
PRODID:-//wp-events-plugin.com//7.2.3.1//EN
TZID:America/Chicago
X-WR-TIMEZONE:America/Chicago
BEGIN:VEVENT
UID:921@riponlibrary.org
DTSTART;TZID=America/Chicago:20241227T100000
DTEND;TZID=America/Chicago:20241227T120000
DTSTAMP:20241216T144945Z
URL:https://riponlibrary.org/events/pop-up-movie-the-tigers-apprentice-pg-
 1h-24m/
SUMMARY:POP-UP MOVIE | The Tiger's Apprentice | PG 1h 24m
DESCRIPTION:Join us for a special POP-UP showing of the movie The Tiger's A
 pprentice at 10:00 AM.  All are welcome!  Complimentary popcorn will be 
 available. For those that attend\, there will be a prize drawing for a cop
 y of the book The Tiger's Apprentice by Laurence Yep. \nIn San Francisco'
 s Chinatown\, an ordinary boy named Tom learns he's the latest guardian of
  a phoenix egg after his grandmother's death. Guided by a talking tiger na
 med Mr. Hu\, Tom must master ancient magic to protect the egg from evil fo
 rces with the help of a quirky band of creatures embodying the Chinese zod
 iac signs.--Swank\n\n&nbsp\;\n&nbsp\;
END:VEVENT
BEGIN:VTIMEZONE
TZID:America/Chicago
X-LIC-LOCATION:America/Chicago
BEGIN:STANDARD
DTSTART:20241103T010000
TZOFFSETFROM:-0500
TZOFFSETTO:-0600
TZNAME:CST
END:STANDARD
END:VTIMEZONE
END:VCALENDAR