BEGIN:VCALENDAR
VERSION:2.0
PRODID:-//wp-events-plugin.com//7.2.3.1//EN
TZID:America/Chicago
X-WR-TIMEZONE:America/Chicago
BEGIN:VEVENT
UID:67@riponlibrary.org
DTSTART;TZID=America/Chicago;VALUE=DATE:20210628
DTEND;TZID=America/Chicago;VALUE=DATE:20210703
DTSTAMP:20210630T131047Z
URL:https://riponlibrary.org/events/papermaking-workshops-registration-req
 uired/
SUMMARY:Papermaking Workshops | Registration Required
DESCRIPTION: [ALL AGES - REGISTRATION REQUIRED] Papermaker Tanya Schwartz-R
 oeper’s mobile studio will be on site with morning\, afternoon\, and eve
 ning appointments available. Space is limited\; reserve your time with thi
 s exciting and accessible art form today!\nRegistration required\; please 
 call 920-748-6160\nPhysical distancing and face masks (ages 5-11 / unvacci
 nated) may be required.
END:VEVENT
BEGIN:VTIMEZONE
TZID:America/Chicago
X-LIC-LOCATION:America/Chicago
BEGIN:DAYLIGHT
DTSTART:20210314T030000
TZOFFSETFROM:-0600
TZOFFSETTO:-0500
TZNAME:CDT
END:DAYLIGHT
END:VTIMEZONE
END:VCALENDAR