BEGIN:VCALENDAR
VERSION:2.0
PRODID:-//wp-events-plugin.com//7.2.3.1//EN
TZID:America/Chicago
X-WR-TIMEZONE:America/Chicago
BEGIN:VEVENT
UID:274@riponlibrary.org
DTSTART;TZID=America/Chicago:20220609T140000
DTEND;TZID=America/Chicago:20220609T160000
DTSTAMP:20220602T174826Z
URL:https://riponlibrary.org/events/papermaking-workshop-3/
SUMMARY:Papermaking Workshop|All Ages
DESCRIPTION:Papermaker Tanya Schwartz-Roeper's mobile studio is at the libr
 ary for drop-in crafting. All ages and abilities are invited to explore an
 d create with this exciting and accessible art form!\nAdditional dates:\n\
 n	June 7th 10:00 am\n	June 7th 2:00 pm\n	June 8th 5:00 pm\n	June 9th 10:00
  am\n	June 9th 2:00 pm\n
END:VEVENT
BEGIN:VTIMEZONE
TZID:America/Chicago
X-LIC-LOCATION:America/Chicago
BEGIN:DAYLIGHT
DTSTART:20220313T030000
TZOFFSETFROM:-0600
TZOFFSETTO:-0500
TZNAME:CDT
END:DAYLIGHT
END:VTIMEZONE
END:VCALENDAR