BEGIN:VCALENDAR
VERSION:2.0
PRODID:-//wp-events-plugin.com//7.2.3.1//EN
TZID:America/Chicago
X-WR-TIMEZONE:America/Chicago
BEGIN:VEVENT
UID:332@riponlibrary.org
DTSTART;TZID=America/Chicago:20220815T140000
DTEND;TZID=America/Chicago:20220815T160000
DTSTAMP:20220812T192247Z
URL:https://riponlibrary.org/events/monday-matineetbd-11/
SUMMARY:Monday Matinee - Doctor Strange in the Multiverse of Madness|PG-13 
 2h 6m
DESCRIPTION:
END:VEVENT
BEGIN:VTIMEZONE
TZID:America/Chicago
X-LIC-LOCATION:America/Chicago
BEGIN:DAYLIGHT
DTSTART:20220313T030000
TZOFFSETFROM:-0600
TZOFFSETTO:-0500
TZNAME:CDT
END:DAYLIGHT
END:VTIMEZONE
END:VCALENDAR