BEGIN:VCALENDAR
VERSION:2.0
PRODID:-//wp-events-plugin.com//7.2.3.1//EN
TZID:America/Chicago
X-WR-TIMEZONE:America/Chicago
BEGIN:VEVENT
UID:129@riponlibrary.org
DTSTART;TZID=America/Chicago:20211122T140000
DTEND;TZID=America/Chicago:20211122T163000
DTSTAMP:20211028T172622Z
URL:https://riponlibrary.org/events/monday-matinee-tbd-6/
SUMMARY:Monday Matinee - Jungle Cruise | (PG-13) 2h 7min
DESCRIPTION:\nBased on Disneyland's theme park ride where a small riverboat
  takes a group of travelers through a jungle filled with dangerous animals
  and reptiles but with a supernatural element.
END:VEVENT
BEGIN:VTIMEZONE
TZID:America/Chicago
X-LIC-LOCATION:America/Chicago
BEGIN:STANDARD
DTSTART:20211107T010000
TZOFFSETFROM:-0500
TZOFFSETTO:-0600
TZNAME:CST
END:STANDARD
END:VTIMEZONE
END:VCALENDAR