BEGIN:VCALENDAR
VERSION:2.0
PRODID:-//wp-events-plugin.com//7.2.3.1//EN
TZID:America/Chicago
X-WR-TIMEZONE:America/Chicago
BEGIN:VEVENT
UID:125@riponlibrary.org
DTSTART;TZID=America/Chicago:20211018T140000
DTEND;TZID=America/Chicago:20211018T160000
DTSTAMP:20211006T175440Z
URL:https://riponlibrary.org/events/monday-matinee-tbd-2/
SUMMARY:Monday Matinee - Roadrunner: A Film About Anthony Bourdain | (R) 1 
 hr 59 min
DESCRIPTION:\nIt's not where you go. It's what you leave behind ... Chef\, 
 writer\, adventurer\, provocateur: Anthony Bourdain lived his life unabash
 edly. Roadrunner: A Film About Anthony Bourdain is an intimate\, behind-th
 e-scenes look at how an anonymous chef became a world-renowned cultural ic
 on. From Academy Award®-winning filmmaker Morgan Neville\, this unflinchi
 ng look at Bourdain reverberates with his presence\, in his own voice and 
 in the way he indelibly impacted the world around him.
END:VEVENT
BEGIN:VTIMEZONE
TZID:America/Chicago
X-LIC-LOCATION:America/Chicago
BEGIN:DAYLIGHT
DTSTART:20210314T030000
TZOFFSETFROM:-0600
TZOFFSETTO:-0500
TZNAME:CDT
END:DAYLIGHT
END:VTIMEZONE
END:VCALENDAR