BEGIN:VCALENDAR
VERSION:2.0
PRODID:-//wp-events-plugin.com//7.2.3.1//EN
TZID:America/Chicago
X-WR-TIMEZONE:America/Chicago
BEGIN:VEVENT
UID:97@riponlibrary.org
DTSTART;TZID=America/Chicago:20210920T140000
DTEND;TZID=America/Chicago:20210920T163000
DTSTAMP:20210809T150457Z
URL:https://riponlibrary.org/events/monday-matinee-in-the-heights-pg-13-14
 3-minutes/
SUMMARY:Monday Matinee - In the Heights | (PG-13) 143 minutes
DESCRIPTION:\nThe creator of "Hamilton" and the director of "Crazy Rich Asi
 ans" invite you to the event of the summer\, where the streets are made of
  music and little dreams become big... "In the Heights." Lights up on Wash
 ington Heights... The scent of a cafecito caliente hangs in the air just o
 utside of the 181st Street subway stop\, where a kaleidoscope of dreams ra
 llies this vibrant and tight-knit community. At the intersection of it all
  is the likable\, magnetic bodega owner Usnavi (Anthony Ramos)\, who saves
  every penny from his daily grind as he hopes\, imagines and sings about a
  better life. "In the Heights" fuses Lin-Manuel Miranda's kinetic music an
 d lyrics with director Jon M. Chu's lively and authentic eye for storytell
 ing to capture a world very much of its place\, but universal in its exper
 ience. Description provided by Rotten Tomatoes. Tomatometer rating 95%. Au
 dience score 94%.
END:VEVENT
BEGIN:VTIMEZONE
TZID:America/Chicago
X-LIC-LOCATION:America/Chicago
BEGIN:DAYLIGHT
DTSTART:20210314T030000
TZOFFSETFROM:-0600
TZOFFSETTO:-0500
TZNAME:CDT
END:DAYLIGHT
END:VTIMEZONE
END:VCALENDAR