BEGIN:VCALENDAR
VERSION:2.0
PRODID:-//wp-events-plugin.com//7.2.3.1//EN
TZID:America/Chicago
X-WR-TIMEZONE:America/Chicago
BEGIN:VEVENT
UID:1059@riponlibrary.org
DTSTART;TZID=America/Chicago:20251021T130000
DTEND;TZID=America/Chicago:20251021T143000
DTSTAMP:20251003T141226Z
URL:https://riponlibrary.org/events/memory-cafe-adults-2025-10-21/
SUMMARY:MEMORY CAFE | Adults
DESCRIPTION:This event is designed for family members and full-time caregiv
 ers of seniors who might be dealing with mild to moderate cognitive impair
 ment\, dementia\, or Alzheimer's. Participants will foster meaningful conn
 ections through a variety of activities\, including games\, music\, snacks
 \, crafts\, and more.\nBoth seniors and their caregivers will benefit from
  assistance\, partake in gently guided interactions\, connect with others 
 facing similar challenges\, and discover local resources available to them
 .\nJun. 17 You Are My Sunshine\nJul. 15 Red\, White &amp\; Blue\nAug. 19 C
 ounty Fair\nSep. 16 Harvest Activity\nOct. 21 Fall Activity\nNov. 18 Thank
 sgiving &amp\; Thankfulness\nDec. 16 Holiday Activity\n \nAll events at R
 ipon Public Library from 1:00 - 2:30 PM\nWalk-Ins welcome\, but RSVPs appr
 eciated!
END:VEVENT
BEGIN:VTIMEZONE
TZID:America/Chicago
X-LIC-LOCATION:America/Chicago
BEGIN:DAYLIGHT
DTSTART:20250309T030000
TZOFFSETFROM:-0600
TZOFFSETTO:-0500
TZNAME:CDT
END:DAYLIGHT
END:VTIMEZONE
END:VCALENDAR