BEGIN:VCALENDAR
VERSION:2.0
PRODID:-//wp-events-plugin.com//7.2.3.1//EN
TZID:America/Chicago
X-WR-TIMEZONE:America/Chicago
BEGIN:VEVENT
UID:800@riponlibrary.org
DTSTART;TZID=America/Chicago:20240719T133000
DTEND;TZID=America/Chicago:20240719T143000
DTSTAMP:20240508T205803Z
URL:https://riponlibrary.org/events/mark-hayward-yo-yo-entertainer/
SUMMARY:MARK HAYWARD | Yo-Yo Entertainer
DESCRIPTION:Mark Hayward: Yo-Yo Entertainer\nFri | Jul 19 | 1:30 PM\nAll ar
 e welcome!\nMark Hayward has been a variety arts performer since 1990. He 
 is a World Yo-yo Champion\, a member of a World Champion Juggling Team\, a
 nd a Spin Top Champion. Mark has traveled the world with a yo-yo on his fi
 nger (well\, mostly in his pocket)\, and has made appearances on The Late 
 Show with David Letterman (twice)\, The Late Late Show with James Corden\,
  America’s Got Talent\, and the NBC Nightly News (without committing a c
 rime). Someday Mark hopes to perform for both the President and the King.
  \nYo-yos will be available for purchase at $10-$15. 
END:VEVENT
BEGIN:VTIMEZONE
TZID:America/Chicago
X-LIC-LOCATION:America/Chicago
BEGIN:DAYLIGHT
DTSTART:20240310T030000
TZOFFSETFROM:-0600
TZOFFSETTO:-0500
TZNAME:CDT
END:DAYLIGHT
END:VTIMEZONE
END:VCALENDAR