BEGIN:VCALENDAR
VERSION:2.0
PRODID:-//wp-events-plugin.com//7.2.3.1//EN
TZID:America/Chicago
X-WR-TIMEZONE:America/Chicago
BEGIN:VEVENT
UID:891@riponlibrary.org
DTSTART;TZID=America/Chicago:20241109T160000
DTEND;TZID=America/Chicago:20241109T180000
DTSTAMP:20241031T190922Z
URL:https://riponlibrary.org/events/lantern-walk-3/
SUMMARY:LANTERN WALK
DESCRIPTION:SAT | NOV 9 | 4-6 PM | LANTERN WALK CELEBRATES COMMUNITY &amp\;
  KINDNESS | ALL AGES\nCome\, “Be the Light” at this annual celebration
  of community! Enjoy a simple meal of warm soup\, saltines\, warm beverage
 s\, and cookies ‘round the fire! Celebrate community and kindness while 
 strolling a lantern-lit storywalk on the Northwest Trail. \nCraft with lo
 cal artist Carissa Sorensen of Heartwork Studios! \nThis free EVENT will 
 take place rain or shine. In the case of inclement weather all elements wi
 ll be set up indoors. \nTIP! Visit Christmas in the Village\, 11 AM – 4
 PM downtown\, before heading to the Lantern Walk!
END:VEVENT
BEGIN:VTIMEZONE
TZID:America/Chicago
X-LIC-LOCATION:America/Chicago
BEGIN:STANDARD
DTSTART:20241103T010000
TZOFFSETFROM:-0500
TZOFFSETTO:-0600
TZNAME:CST
END:STANDARD
END:VTIMEZONE
END:VCALENDAR