BEGIN:VCALENDAR
VERSION:2.0
PRODID:-//wp-events-plugin.com//7.2.3.1//EN
TZID:America/Chicago
X-WR-TIMEZONE:America/Chicago
BEGIN:VEVENT
UID:536@riponlibrary.org
DTSTART;TZID=America/Chicago:20230610T100000
DTEND;TZID=America/Chicago:20230610T110000
DTSTAMP:20230521T193750Z
URL:https://riponlibrary.org/events/kaydenn-string-quartet/
SUMMARY:KAYDENN STRING QUARTET
DESCRIPTION:KAYDENN STRING QUARTET | SAT JUN 10 @ 10 AM\nThis world-renowne
 d\, internationally representative group\, formed by musicians from China\
 , Taiwan\, Spain\, &amp\; the United States\, is not to be missed!\nFOR KI
 DS TO ADULTS | SPONSORED BY GREEN LAKE FESTIVAL OF MUSIC.
END:VEVENT
BEGIN:VTIMEZONE
TZID:America/Chicago
X-LIC-LOCATION:America/Chicago
BEGIN:DAYLIGHT
DTSTART:20230312T030000
TZOFFSETFROM:-0600
TZOFFSETTO:-0500
TZNAME:CDT
END:DAYLIGHT
END:VTIMEZONE
END:VCALENDAR