BEGIN:VCALENDAR
VERSION:2.0
PRODID:-//wp-events-plugin.com//7.2.3.1//EN
TZID:America/Chicago
X-WR-TIMEZONE:America/Chicago
BEGIN:VEVENT
UID:135@riponlibrary.org
DTSTART;TZID=America/Chicago;VALUE=DATE:20211016
DTEND;TZID=America/Chicago;VALUE=DATE:20211018
DTSTAMP:20211015T145813Z
URL:https://riponlibrary.org/events/fall-funs-brewing-take-make-craft-for-
 all-ages/
SUMMARY:Fall fun's brewing! Take & Make Craft for ALL AGES
DESCRIPTION:Pumpkin Take &amp\; Make for ALL Ages\nOn Saturday\, October 16
 \, a Take &amp\; Make Pumpkin craft kit becomes available for pick up at t
 he library while supplies last. The kit includes an organic pumpkin fresh 
 from Shep’s Pumpkin Patch at Boerson Farm\, decorations\, roasted pumpki
 n seed recipe\, and composting instructions. A portion of the proceeds fro
 m Shep’s Pumpkin Patch are donated to the Green Lake Area Animal Shelter
 . This project is a win-win-win!\nThanks to financial support from the Fri
 ends of the Library\, offerings are FREE!\nRegistration is not required.
END:VEVENT
BEGIN:VTIMEZONE
TZID:America/Chicago
X-LIC-LOCATION:America/Chicago
BEGIN:DAYLIGHT
DTSTART:20210314T030000
TZOFFSETFROM:-0600
TZOFFSETTO:-0500
TZNAME:CDT
END:DAYLIGHT
END:VTIMEZONE
END:VCALENDAR