BEGIN:VCALENDAR
VERSION:2.0
PRODID:-//wp-events-plugin.com//7.2.3.1//EN
TZID:America/Chicago
X-WR-TIMEZONE:America/Chicago
BEGIN:VEVENT
UID:972@riponlibrary.org
DTSTART;TZID=America/Chicago:20250413T130000
DTEND;TZID=America/Chicago:20250413T160000
DTSTAMP:20250331T203028Z
URL:https://riponlibrary.org/events/dd-game-time-and-more-2025-04-13/
SUMMARY:D&D GAME TIME AND MORE!
DESCRIPTION:\n\n\n\n 1-4 PM | D&amp\;D GAME TIME | AGES 11 + UP\nJoin us f
 or an afternoon of Dungeons and Dragons and other roleplaying games in whi
 ch you immerse yourself in a fantasy world and characters\, problem-solve 
 and collaborate with others!\nBeginners welcome. \nRecurs 2nd SUN each mo
 nth.\n&nbsp\;\n&nbsp\;\n\n\n\n
END:VEVENT
BEGIN:VTIMEZONE
TZID:America/Chicago
X-LIC-LOCATION:America/Chicago
BEGIN:DAYLIGHT
DTSTART:20250309T030000
TZOFFSETFROM:-0600
TZOFFSETTO:-0500
TZNAME:CDT
END:DAYLIGHT
END:VTIMEZONE
END:VCALENDAR