BEGIN:VCALENDAR
VERSION:2.0
PRODID:-//wp-events-plugin.com//7.2.3.1//EN
TZID:America/Chicago
X-WR-TIMEZONE:America/Chicago
BEGIN:VEVENT
UID:868@riponlibrary.org
DTSTART;TZID=America/Chicago:20241110T130000
DTEND;TZID=America/Chicago:20241110T160000
DTSTAMP:20240904T203711Z
URL:https://riponlibrary.org/events/dd-and-more-2024-11-10/
SUMMARY:D&D and MORE!
DESCRIPTION:Join us for an afternoon of Dungeons and Dragons and other role
 playing games in which you immerse yourself in a world and character\, pro
 blem-solve and collaborate with others!\nBeginners welcome. \nRecurs 2nd S
 UN each month.\nSep 8 | 1-4 PM\nOct 13 | 1-4 PM\nNov 10 | 1-4 PM
END:VEVENT
BEGIN:VTIMEZONE
TZID:America/Chicago
X-LIC-LOCATION:America/Chicago
BEGIN:STANDARD
DTSTART:20241103T010000
TZOFFSETFROM:-0500
TZOFFSETTO:-0600
TZNAME:CST
END:STANDARD
END:VTIMEZONE
END:VCALENDAR