BEGIN:VCALENDAR
VERSION:2.0
PRODID:-//wp-events-plugin.com//7.2.3.1//EN
TZID:America/Chicago
X-WR-TIMEZONE:America/Chicago
BEGIN:VEVENT
UID:288@riponlibrary.org
DTSTART;TZID=America/Chicago:20220715T100000
DTEND;TZID=America/Chicago:20220715T100000
DTSTAMP:20220706T143523Z
URL:https://riponlibrary.org/events/coffee-classics-2022-07-15/
SUMMARY:Coffee & Conversations
DESCRIPTION:Enjoy a cup of coffee while chatting with great people from the
  library and Ripon Senior Activity Center every other Friday starting June
  17th!\nCoffee &amp\; Conversations dates:\n\n	June 17\n	July 1\n	July 15\
 n	July 29\n
END:VEVENT
BEGIN:VTIMEZONE
TZID:America/Chicago
X-LIC-LOCATION:America/Chicago
BEGIN:DAYLIGHT
DTSTART:20220313T030000
TZOFFSETFROM:-0600
TZOFFSETTO:-0500
TZNAME:CDT
END:DAYLIGHT
END:VTIMEZONE
END:VCALENDAR