BEGIN:VCALENDAR
VERSION:2.0
PRODID:-//wp-events-plugin.com//7.2.3.1//EN
TZID:America/Chicago
X-WR-TIMEZONE:America/Chicago
BEGIN:VEVENT
UID:193@riponlibrary.org
DTSTART;TZID=America/Chicago;VALUE=DATE:20220201
DTEND;TZID=America/Chicago;VALUE=DATE:20220202
DTSTAMP:20220209T155857Z
URL:https://riponlibrary.org/events/candy-jar-guessing-game-love-your-libr
 ary-month/
SUMMARY:Candy Jar Guessing Game- Love your Library Month
DESCRIPTION:Love Your Library\, it's a SWEET deal! Guess the number of cand
 ies in the jar - three lucky winners receive $10 Chamber certificates. Jar
  of candy will be at the check out desk. One guess per person please. Gues
 sing can take place starting February 1st through February 28th\, winners 
 will be contacted shortly after!  
END:VEVENT
BEGIN:VTIMEZONE
TZID:America/Chicago
X-LIC-LOCATION:America/Chicago
BEGIN:STANDARD
DTSTART:20211107T010000
TZOFFSETFROM:-0500
TZOFFSETTO:-0600
TZNAME:CST
END:STANDARD
END:VTIMEZONE
END:VCALENDAR