BEGIN:VCALENDAR
VERSION:2.0
PRODID:-//wp-events-plugin.com//7.2.3.1//EN
TZID:America/Chicago
X-WR-TIMEZONE:America/Chicago
BEGIN:VEVENT
UID:341@riponlibrary.org
DTSTART;TZID=America/Chicago:20220822T183000
DTEND;TZID=America/Chicago:20220822T193000
DTSTAMP:20220812T191706Z
URL:https://riponlibrary.org/events/book-discussion-group-the-language-of-
 flowers/
SUMMARY:Book Discussion Group | The Language of Flowers
DESCRIPTION:Join us in-person for the Friends of the Library book discussio
 n group on Monday the 22nd! August's selection is "The Language of Flowers
 " by Vanessa Diffenbaugh. Copies of the book discussion selections are ava
 ilable to check out at the library\, beginning around the middle of the mo
 nth\, while supplies last.\nFrom Amazon.com:\n\n\nNEW YORK TIMES BESTSELLE
 R\n \nThe Victorian language of flowers was used to convey romantic expre
 ssions: honeysuckle for devotion\, asters for patience\, and red roses for
  love. But for Victoria Jones\, it’s been more useful in communicating m
 istrust and solitude. After a childhood spent in the foster-care system\, 
 she is unable to get close to anybody\, and her only connection to the wor
 ld is through flowers and their meanings. Now eighteen and emancipated fro
 m the system with nowhere to go\, Victoria realizes she has a gift for hel
 ping others through the flowers she chooses for them. But an unexpected en
 counter with a mysterious stranger has her questioning what’s been missi
 ng in her life. And when she’s forced to confront a painful secret from 
 her past\, she must decide whether it’s worth risking everything for a s
 econd chance at happiness.\n \nLook for special features inside. Join the
  Circle for author chats and more.\n\n\n&nbsp\;
END:VEVENT
BEGIN:VTIMEZONE
TZID:America/Chicago
X-LIC-LOCATION:America/Chicago
BEGIN:DAYLIGHT
DTSTART:20220313T030000
TZOFFSETFROM:-0600
TZOFFSETTO:-0500
TZNAME:CDT
END:DAYLIGHT
END:VTIMEZONE
END:VCALENDAR