BEGIN:VCALENDAR
VERSION:2.0
PRODID:-//wp-events-plugin.com//7.2.3.1//EN
TZID:America/Chicago
X-WR-TIMEZONE:America/Chicago
BEGIN:VEVENT
UID:1192@riponlibrary.org
DTSTART;TZID=America/Chicago:20260622T183000
DTEND;TZID=America/Chicago:20260622T193000
DTSTAMP:20260331T200855Z
URL:https://riponlibrary.org/events/book-club-the-glass-maker/
SUMMARY:BOOK CLUB | The Glass Maker
DESCRIPTION:MON | JUN 22 | 6:30 PM  | BOOK CLUB | ADULTS\nAT Our Saviors C
 hurch 343 Scott St\, Ripon\, WI 54971\nEnjoy a friendly and thoughtful dis
 cussion with other book lovers! Books are available for check out prior to
  the discussion date. Stop at the library to get your copy. Join us in per
 son or online for a lively discussion! A Zoom link for online participatio
 n can be found on the library website.\nJoin Zoom Meeting\nhttps://us02web
 .zoom.us/j/82729835203?pwd=wRAJJnXHPuwvFYjA77ME9o0Jz1GylK.1\nMeeting ID: 8
 27 2983 5203\nPasscode: BookClub8\nThe Glass Maker by Tracy Chevalier\n\nA
  tale of resilience and craftsmanship unfolds in 1486 Venice\, where Orsol
 a Rosso\, the talented daughter of glassblowers\, defies societal norms to
  master glass bead making after her father's death. As she supports her fa
 mily through creativity\, they face challenges like disease\, war\, and th
 e transformation of Venice from a trading hub to a tourist destination. Th
 e Rosso women preserve their craft and connections across generations. Che
 valier’s The Glassmaker tells a captivating story of resilience\, artist
 ry\, and the enduring spirit of a woman and her city.\n\n&nbsp\;
END:VEVENT
BEGIN:VTIMEZONE
TZID:America/Chicago
X-LIC-LOCATION:America/Chicago
BEGIN:DAYLIGHT
DTSTART:20260308T030000
TZOFFSETFROM:-0600
TZOFFSETTO:-0500
TZNAME:CDT
END:DAYLIGHT
END:VTIMEZONE
END:VCALENDAR