BEGIN:VCALENDAR
VERSION:2.0
PRODID:-//wp-events-plugin.com//7.2.3.1//EN
TZID:America/Chicago
X-WR-TIMEZONE:America/Chicago
BEGIN:VEVENT
UID:846@riponlibrary.org
DTSTART;TZID=America/Chicago:20241125T183000
DTEND;TZID=America/Chicago:20241125T193000
DTSTAMP:20240819T190808Z
URL:https://riponlibrary.org/events/book-club-miss-morgans-book-brigade/
SUMMARY:BOOK CLUB | Miss Morgan's Book Brigade
DESCRIPTION:Join the library book discussion of Miss Morgan's Book Brigade 
 by author Janet Skeslien Charles on Monday\, November 25th at 6:30 PM! Cop
 ies of the book are available to check out at the library while supplies l
 ast.\nZoom link: \nMeeting ID: 827 2983 5203\nPassword: BookClub8\n\n\n\n
 \nMiss Morgan's Book Brigade by Janet Skeslien Charles \n1918: As the Gre
 at War rages\, Jessie Carson takes a leave of absence from the New York Pu
 blic Library to work for the American Committee for Devastated France. Fou
 nded by millionaire Anne Morgan\, this group of international women help r
 ebuild destroyed French communities just miles from the front. Upon arriva
 l\, Jessie strives to establish something that the French have never seen
 —children’s libraries. She turns ambulances into bookmobiles and train
 s the first French female librarians. Then she disappears.\n\n1987: When N
 YPL librarian and aspiring writer Wendy Peterson stumbles across a passing
  reference to Jessie Carson in the archives\, she becomes consumed with le
 arning her fate. In her obsessive research\, she discovers that she and th
 e elusive librarian have more in common than their work at New York’s fa
 med library\, but she has no idea their paths will converge in surprising 
 ways across time.--Amazon\n&nbsp\;\n\n\n\n
END:VEVENT
BEGIN:VTIMEZONE
TZID:America/Chicago
X-LIC-LOCATION:America/Chicago
BEGIN:STANDARD
DTSTART:20241103T010000
TZOFFSETFROM:-0500
TZOFFSETTO:-0600
TZNAME:CST
END:STANDARD
END:VTIMEZONE
END:VCALENDAR