BEGIN:VCALENDAR
VERSION:2.0
PRODID:-//wp-events-plugin.com//7.2.3.1//EN
TZID:America/Chicago
X-WR-TIMEZONE:America/Chicago
BEGIN:VEVENT
UID:1190@riponlibrary.org
DTSTART;TZID=America/Chicago:20260427T183000
DTEND;TZID=America/Chicago:20260427T193000
DTSTAMP:20260331T200419Z
URL:https://riponlibrary.org/events/book-club-horse/
SUMMARY:BOOK CLUB | Horse
DESCRIPTION:MON | APR 27 | 6:30 PM | BOOK CLUB | ADULTS \nAT Our Saviors C
 hurch 343 Scott St\, Ripon\, WI 54971\nEnjoy a friendly and thoughtful dis
 cussion with other book lovers! Books are available for check out prior to
  the discussion date. Stop at the library to get your copy. Join us in per
 son or online for a lively discussion! A Zoom link for online participatio
 n can be found on the library website.\nJoin Zoom Meeting\nhttps://us02web
 .zoom.us/j/82729835203?pwd=wRAJJnXHPuwvFYjA77ME9o0Jz1GylK.1\nMeeting ID: 8
 27 2983 5203\nPasscode: BookClub8\n \n\nHorse by Geraldine Brooks\n"Horse
 " is a Pulitzer Prize-winning novel weaving together stories of spirit\, o
 bsession\, and injustice through three timelines.\n\n	Kentucky\, 1850: Jar
 ret\, an enslaved groom\, bonds with a bay foal destined for racing succes
 s amid the Civil War\, where an artist fighting for the Union reunites wit
 h them.\n	New York City\, 1954: Gallery owner Martha Jackson becomes obses
 sed with a mysterious 19th-century equestrian painting.\n	Washington\, DC\
 , 2019: Jess\, a Smithsonian scientist\, and Theo\, an art historian\, con
 nect through their interest in the racehorse\, studying its bones and the 
 overlooked contributions of Black horsemen.\n\nInspired by the true story 
 of the thoroughbred Lexington\, the novel explores themes of art\, science
 \, love\, and the ongoing dialogue about racism.\n\n \n&nbsp\;\n&nbsp\;
END:VEVENT
BEGIN:VTIMEZONE
TZID:America/Chicago
X-LIC-LOCATION:America/Chicago
BEGIN:DAYLIGHT
DTSTART:20260308T030000
TZOFFSETFROM:-0600
TZOFFSETTO:-0500
TZNAME:CDT
END:DAYLIGHT
END:VTIMEZONE
END:VCALENDAR