BEGIN:VCALENDAR
VERSION:2.0
PRODID:-//wp-events-plugin.com//7.2.3.1//EN
TZID:America/Chicago
X-WR-TIMEZONE:America/Chicago
BEGIN:VEVENT
UID:1191@riponlibrary.org
DTSTART;TZID=America/Chicago:20260518T183000
DTEND;TZID=America/Chicago:20260518T193000
DTSTAMP:20260331T200931Z
URL:https://riponlibrary.org/events/book-club-by-any-other-name/
SUMMARY:BOOK CLUB | By Any Other Name
DESCRIPTION:MON  MAY 18 | 6:30 PM  | BOOK CLUB | ADULTS\nAT Our Saviors C
 hurch 343 Scott St\, Ripon\, WI 54971\nEnjoy a friendly and thoughtful dis
 cussion with other book lovers! Books are available for check out prior to
  the discussion date. Stop at the library to get your copy. Join us in per
 son or online for a lively discussion! A Zoom link for online participatio
 n can be found on the library website.\nJoin Zoom Meeting\nhttps://us02web
 .zoom.us/j/82729835203?pwd=wRAJJnXHPuwvFYjA77ME9o0Jz1GylK.1\nMeeting ID: 8
 27 2983 5203\nPasscode: BookClub8\n \n\nBy Any Other Name by Jodi Picoult
 \nYoung playwright Melina Green writes a play inspired by her Elizabethan 
 ancestor\, Emilia Bassano\, but fears performing it in a male-dominated th
 eater world. Her friend submits the play under a male pseudonym. In 1581\,
  Emilia\, a ward of aristocrats\, learns storytelling but lacks a voice. A
 fter becoming a mistress to the Lord Chamberlain\, she plans to secretly s
 tage her play with William Shakespeare as a front.\nBy Any Other Name inte
 rtwines their stories of ambition and courage against societal prejudices.
 \nThe novel explores whether a writer should do anything to ensure their s
 tory is told.\nIt highlights Emilia Bassano's significance through histori
 cal sources.\n\n \n&nbsp\;\n&nbsp\;
END:VEVENT
BEGIN:VTIMEZONE
TZID:America/Chicago
X-LIC-LOCATION:America/Chicago
BEGIN:DAYLIGHT
DTSTART:20260308T030000
TZOFFSETFROM:-0600
TZOFFSETTO:-0500
TZNAME:CDT
END:DAYLIGHT
END:VTIMEZONE
END:VCALENDAR