BEGIN:VCALENDAR
VERSION:2.0
PRODID:-//wp-events-plugin.com//7.2.3.1//EN
TZID:America/Chicago
X-WR-TIMEZONE:America/Chicago
BEGIN:VEVENT
UID:785@riponlibrary.org
DTSTART;TZID=America/Chicago:20240722T183000
DTEND;TZID=America/Chicago:20240722T193000
DTSTAMP:20240702T211940Z
URL:https://riponlibrary.org/events/book-club-2024-07-22/
SUMMARY:BOOK CLUB
DESCRIPTION:Join us for a lively book discussion on fourth Monday of the mo
 nth from 6:30-7:30 PM.\nAll are welcome!\nBooks are available for check ou
 t at the main desk.  \nMon | Jun 24  Still Life with Bread Crumbs by An
 na Quindlen\nMon | Jul 22 The House in the Pines by Ana Reyes\nMon | Aug 2
 6 Firekeeper's Daughter by Angeline Boulley\nZoom Link:\nMeeting ID: 827 2
 983 5203\nPassword: BookClub8
END:VEVENT
BEGIN:VTIMEZONE
TZID:America/Chicago
X-LIC-LOCATION:America/Chicago
BEGIN:DAYLIGHT
DTSTART:20240310T030000
TZOFFSETFROM:-0600
TZOFFSETTO:-0500
TZNAME:CDT
END:DAYLIGHT
END:VTIMEZONE
END:VCALENDAR