BEGIN:VCALENDAR
VERSION:2.0
PRODID:-//wp-events-plugin.com//7.2.3.1//EN
TZID:America/Chicago
X-WR-TIMEZONE:America/Chicago
BEGIN:VEVENT
UID:264@riponlibrary.org
DTSTART;TZID=America/Chicago:20220518T100000
DTEND;TZID=America/Chicago:20220518T100000
DTSTAMP:20220427T153800Z
URL:https://riponlibrary.org/events/book-bites-11/
SUMMARY:Book Bites #11
DESCRIPTION:Take a morsel-sized look at a great book with Adult &amp\; Teen
  Services Librarian Rachel Clift. New episodes of Book Bites will be poste
 d every two weeks on our Facebook\, YouTube\, and Instagram! This Book Bit
 e will be 'Not here to be liked' by Michelle Quach!
END:VEVENT
BEGIN:VTIMEZONE
TZID:America/Chicago
X-LIC-LOCATION:America/Chicago
BEGIN:DAYLIGHT
DTSTART:20220313T030000
TZOFFSETFROM:-0600
TZOFFSETTO:-0500
TZNAME:CDT
END:DAYLIGHT
END:VTIMEZONE
END:VCALENDAR