BEGIN:VCALENDAR
VERSION:2.0
PRODID:-//wp-events-plugin.com//7.2.3.1//EN
TZID:America/Chicago
X-WR-TIMEZONE:America/Chicago
BEGIN:VEVENT
UID:936@riponlibrary.org
DTSTART;TZID=America/Chicago:20250129T100000
DTEND;TZID=America/Chicago:20250129T104500
DTSTAMP:20241204T202710Z
URL:https://riponlibrary.org/events/baby-bounce-2025-01-29/
SUMMARY:BABY BOUNCE!
DESCRIPTION:\nBABY BOUNCE | WEDS JAN 15 - FEB 19 | 10 AM\nA GROUP FITNESS T
 IME FOR CAREGIVERS\, THEIR BABIES &amp\; PRESCHOOLERS!\nCallista Wesner\, 
 M.S. Exercise Science\, hosts fun\, friendly fitness sessions to combat th
 e winter blahs! A variety of adult/child sizes\, ages and abilities will b
 e supported with a range of options and instruction. Attend all of the ses
 sions or select those fitting your schedule.\nYou can expect:\n\n	to be ac
 tive for 15-20 minutes.\n	to interact with &amp\; involve your child as is
  appropriate for you both.\n	music and movement.\n	a Q&amp\;A time + take 
 home tips.\n	each week to be unique.\n\nAll participants\, adults and chil
 dren\, must have a liability waiver completed in advance. Waivers are avai
 lable for pick up at the library or via this link. LIABILITY WAIVER\nAfter
  Baby Bounce all are welcome to STAY &amp\; PLAY in the Romper Room.\n
END:VEVENT
BEGIN:VTIMEZONE
TZID:America/Chicago
X-LIC-LOCATION:America/Chicago
BEGIN:STANDARD
DTSTART:20241103T010000
TZOFFSETFROM:-0500
TZOFFSETTO:-0600
TZNAME:CST
END:STANDARD
END:VTIMEZONE
END:VCALENDAR