BEGIN:VCALENDAR
VERSION:2.0
PRODID:-//wp-events-plugin.com//7.2.3.1//EN
TZID:America/Chicago
X-WR-TIMEZONE:America/Chicago
BEGIN:VEVENT
UID:744@riponlibrary.org
DTSTART;TZID=America/Chicago:20240311T180000
DTEND;TZID=America/Chicago:20240311T193000
DTSTAMP:20240209T213845Z
URL:https://riponlibrary.org/events/all-natural-series-the-benefits-of-div
 erse-ecosystems/
SUMMARY:ALL NATURAL SERIES | The Benefits of Diverse Ecosystems
DESCRIPTION:Ripon College Professor Emeritus Skip Wittler will present a pr
 ogram on the benefits of diverse ecosystems to humans. The presentation wi
 ll allow for a Q&amp\;A session afterwards. All are welcome!
END:VEVENT
BEGIN:VTIMEZONE
TZID:America/Chicago
X-LIC-LOCATION:America/Chicago
BEGIN:DAYLIGHT
DTSTART:20240310T030000
TZOFFSETFROM:-0600
TZOFFSETTO:-0500
TZNAME:CDT
END:DAYLIGHT
END:VTIMEZONE
END:VCALENDAR