BEGIN:VCALENDAR
VERSION:2.0
PRODID:-//wp-events-plugin.com//7.2.3.1//EN
TZID:America/Chicago
X-WR-TIMEZONE:America/Chicago
BEGIN:VEVENT
UID:958@riponlibrary.org
DTSTART;TZID=America/Chicago:20250205T183000
DTEND;TZID=America/Chicago:20250205T200000
DTSTAMP:20241227T164045Z
URL:https://riponlibrary.org/events/adult-trivia-night-roadhouse-pizza-3/
SUMMARY:ADULT TRIVIA NIGHT @ ROADHOUSE PIZZA
DESCRIPTION:Wed | Feb 5 | 6:30 PM\nJoin Us for Trivia Night at Roadhouse Pi
 zza!\nAre you ready to put your knowledge to the test? Gather your friends
 \, charge up your smartphones\, and head over to Roadhouse Pizza for an ex
 citing Trivia Night geared for adults\, but families are welcome!\nForm a 
 team and compete for the ultimate trivia champion title! Bring your smartp
 hones to participate in interactive trivia rounds. Delicious food and beve
 rages will be available for purchase throughout the evening.\n\n\n\n\n&nbs
 p\;\n\n\n\n
END:VEVENT
BEGIN:VTIMEZONE
TZID:America/Chicago
X-LIC-LOCATION:America/Chicago
BEGIN:STANDARD
DTSTART:20241103T010000
TZOFFSETFROM:-0500
TZOFFSETTO:-0600
TZNAME:CST
END:STANDARD
END:VTIMEZONE
END:VCALENDAR