BEGIN:VCALENDAR
VERSION:2.0
PRODID:-//wp-events-plugin.com//7.2.3.1//EN
TZID:America/Chicago
X-WR-TIMEZONE:America/Chicago
BEGIN:VEVENT
UID:416@riponlibrary.org
DTSTART;TZID=America/Chicago:20230125T180000
DTEND;TZID=America/Chicago:20230125T200000
DTSTAMP:20221230T222918Z
URL:https://riponlibrary.org/events/adult-game-night-dec-2022/
SUMMARY:Adult Game Night
DESCRIPTION:** Please note that January's Adult Game Night is being held on
 e week later than usual **\nCalling all strategists\, team players\, and t
 hose who like to test their luck—join us for a fun night of tabletop boa
 rd games! We will have a variety of entertaining and easy to learn games! 
 No experience necessary!\nJanuary will feature press-your-luck games\, inc
 luding the Spiel des Jahres darling The Quacks of Quedlinburg and lighter 
 fare like Zombie Dice.\nThis is an adult event (ages 16+) that will be hel
 d in the Silver Creek Room on the 3rd Wednesday of the month (...except th
 is month\, when it's on the 4th Wednesday).
END:VEVENT
BEGIN:VTIMEZONE
TZID:America/Chicago
X-LIC-LOCATION:America/Chicago
BEGIN:STANDARD
DTSTART:20221106T010000
TZOFFSETFROM:-0500
TZOFFSETTO:-0600
TZNAME:CST
END:STANDARD
END:VTIMEZONE
END:VCALENDAR